BEGIN:VCALENDAR
PRODID:-//eluceo/ical//2.0/EN
VERSION:2.0
CALSCALE:GREGORIAN
BEGIN:VEVENT
UID:218af7242f9e06707493874f33ecd27e
DTSTAMP:20260422T140226Z
SUMMARY:Week-end INbounds et candidats Outbounds
DESCRIPTION:Site internet: http://www.montcalm-vannes.org/fr/accueil/
URL:https://yep1650.rotary-bretagne-mayenne.org/fr/agenda/show/51813
DTSTART;TZID=Europe/Zurich:20251213T103000
DTEND;TZID=Europe/Zurich:20251214T173000
LOCATION:Espace Montcalm\, Rue des Ursulines\, 56000 VANNES\, France
CATEGORIES:Rotary
END:VEVENT
BEGIN:VTIMEZONE
TZID:Europe/Zurich
BEGIN:STANDARD
DTSTART:20251213T103000
TZNAME:CET
TZOFFSETTO:+0100
TZOFFSETFROM:+0100
END:STANDARD
END:VTIMEZONE
END:VCALENDAR
